{
 "currentVersion": 10.81,
 "serviceDescription": "Disaster/20231206_HH_20240103_HH_diff",
 "name": "Disaster/20231206_HH_20240103_HH_diff",
 "description": "",
 "extent": {
  "xmin": 621662,
  "ymin": 4021702,
  "xmax": 702382,
  "ymax": 4154690,
  "spatialReference": {
   "wkid": 32653,
   "latestWkid": 32653
  }
 },
 "initialExtent": {
  "xmin": 621662,
  "ymin": 4021702,
  "xmax": 702382,
  "ymax": 4154690,
  "spatialReference": {
   "wkid": 32653,
   "latestWkid": 32653
  }
 },
 "fullExtent": {
  "xmin": 621662,
  "ymin": 4021702,
  "xmax": 702382,
  "ymax": 4154690,
  "spatialReference": {
   "wkid": 32653,
   "latestWkid": 32653
  }
 },
 "pixelSizeX": 4,
 "pixelSizeY": 4,
 "bandCount": 3,
 "pixelType": "U8",
 "minPixelSize": 0,
 "maxPixelSize": 0,
 "copyrightText": "",
 "serviceDataType": "esriImageServiceDataTypeThematic",
 "minValues": [],
 "maxValues": [],
 "meanValues": [],
 "stdvValues": [],
 "objectIdField": "",
 "fields": [],
 "capabilities": "Image,Metadata,Mensuration",
 "defaultMosaicMethod": "Center",
 "allowedMosaicMethods": "",
 "sortField": "",
 "sortValue": null,
 "sortAscending": true,
 "mosaicOperator": "First",
 "defaultCompressionQuality": 75,
 "defaultResamplingMethod": "Bilinear",
 "maxImageHeight": 4100,
 "maxImageWidth": 15000,
 "allowRasterFunction": true,
 "rasterFunctionInfos": [
  {
   "name": "None",
   "description": "",
   "help": ""
  }
 ],
 "rasterTypeInfos": [
  {
   "name": "Raster Dataset",
   "description": "Supports all ArcGIS Raster Datasets",
   "help": ""
  }
 ],
 "mensurationCapabilities": "Basic",
 "hasHistograms": false,
 "hasColormap": false,
 "hasRasterAttributeTable": false,
 "minScale": 0,
 "maxScale": 0,
 "exportTilesAllowed": false,
 "hasMultidimensions": false,
 "supportsStatistics": false,
 "supportsAdvancedQueries": false,
 "editFieldsInfo": null,
 "ownershipBasedAccessControlForRasters": null,
 "allowComputeTiePoints": false,
 "useStandardizedQueries": true,
 "advancedQueryCapabilities": {
  "useStandardizedQueries": true,
  "supportsStatistics": false,
  "supportsOrderBy": false,
  "supportsDistinct": false,
  "supportsPagination": false
 },
 "spatialReference": {
  "wkid": 32653,
  "latestWkid": 32653
 }
}